BEGIN:VCALENDAR
PRODID:-//AT Content Types//AT Event//EN
VERSION:1.0
BEGIN:VEVENT
DTSTART:20090623T180000Z
DTEND:20090623T210000Z
DCREATED:20090612T144123Z
UID:ATEvent-0d46ff60c5b750268628ca4f462f8b90
SEQUENCE:0
LAST-MODIFIED:20090729T211716Z
SUMMARY:Эпоха перемен: Польша и Россия. 1989 - 2009
DESCRIPTION:23 июня в 18 часов в Золотом зале Е
 вропейского университета в Санкт-Пете
 рбурге состоится круглый стол\n"Эпоха 
 еремен: Польша и Россия. 1989 - 2009".
LOCATION:ЕУСПб (ул. Гагаринская\, 3)
PRIORITY:3
TRANSP:0
END:VEVENT
END:VCALENDAR
