BEGIN:VCALENDAR
PRODID:-//AT Content Types//AT Event//EN
VERSION:1.0
BEGIN:VEVENT
DTSTART:20091120T160000Z
DTEND:20091120T180000Z
DCREATED:20091116T080039Z
UID:ATEvent-dd1448b381697c8f893b92660635b7aa
SEQUENCE:0
LAST-MODIFIED:20091116T080054Z
SUMMARY:Вечер памяти Галины Старовойтовой
DESCRIPTION:20 ноября в Интерьерном театре с
 стоится вечер памяти Галины Старовой
 овой.
LOCATION:Интерьерный театр\, Невский пр.\, 104
PRIORITY:3
TRANSP:0
END:VEVENT
END:VCALENDAR
