BEGIN:VCALENDAR
PRODID:-//AT Content Types//AT Event//EN
VERSION:2.0
METHOD:PUBLISH
BEGIN:VEVENT
DTSTAMP:20260422T042833Z
CREATED:20091125T151520Z
UID:ATEvent-e1c8af1dd45a5f339679ae695e7473c5
LAST-MODIFIED:20091125T151542Z
SUMMARY:Памятка для принимающих родителей: Четыре шведских заповеди
DTSTART:20091125T151000Z
DTEND:20091125T151000Z
DESCRIPTION:"Родительский мост" на своем сай
 те предлагает четыре шведских заповед
 и для принимающих родителей.
LOCATION:Везде
CATEGORIES:гражданское общество, дети, благотворительность
CLASS:PUBLIC
END:VEVENT
END:VCALENDAR
