BEGIN:VCALENDAR
PRODID:-//AT Content Types//AT Event//EN
VERSION:2.0
METHOD:PUBLISH
BEGIN:VEVENT
DTSTAMP:20260421T031303Z
CREATED:20091208T151424Z
UID:ATEvent-764499c26ff6a472c8c0e3d4a4c989d2
LAST-MODIFIED:20091208T151437Z
SUMMARY:Из типологии сопротивления торговому ажиотажу: Фриганизм
DTSTART:20091208T151500Z
DTEND:20091209T151500Z
DESCRIPTION:Период перед новогодними празд
 иками\, начинающийся по новым "стандар
 там" уже в ноябре\, связан с огромными т
 ратами и торговым ажиотажем - все ищут 
 подарки\, украшают дом и с помощью поку
 пок пытаются создать себе праздничное
  настроение.
LOCATION:Мир
CATEGORIES:разнообразие, top
CLASS:PUBLIC
END:VEVENT
END:VCALENDAR
