BEGIN:VCALENDAR
PRODID:-//AT Content Types//AT Event//EN
VERSION:2.0
METHOD:PUBLISH
BEGIN:VEVENT
DTSTAMP:20260421T073119Z
CREATED:20100226T133505Z
UID:ATEvent-a0fc4cea3b0e10cb6d9d8552d290fd27
LAST-MODIFIED:20100226T133521Z
SUMMARY:Воскресный пикет
DTSTART:20100228T110000Z
DTEND:20100228T133500Z
DESCRIPTION:Общественное движение «Живой Г
 род» в воскресенье\, 28 февраля\, в 14-00 п
 оводит пикет\, посвященный дому Рогов
 .
LOCATION:На Владимирской площади (на «пятачке» у соединения Загородного пр. и Б.Московской ул.\, напротив Дома Дельвига)
CATEGORIES:гражданское общество, город
CLASS:PUBLIC
END:VEVENT
END:VCALENDAR
