BEGIN:VCALENDAR
PRODID:-//AT Content Types//AT Event//EN
VERSION:2.0
METHOD:PUBLISH
BEGIN:VEVENT
DTSTAMP:20260423T085901Z
CREATED:20100218T084347Z
UID:ATEvent-46ed966f95a67799c5c8b9d8098d8fad
LAST-MODIFIED:20100222T095456Z
SUMMARY:Валерий Панюшкин в Смольном институте
DTSTART:20100226T153000Z
DTEND:20100226T180000Z
DESCRIPTION:Смольный институт свободных ис
 усств и наук приглашает на очередное 
 аседание Семинара по правам человека.
  Известный писатель и журналист Валер
 й Панюшкин выступит с докладом "Конце
 ция детства и права ребёнка в совреме
 ной России".
LOCATION:Галерная ул.\, 58 - 60
CATEGORIES:гражданское общество, дети
CLASS:PUBLIC
END:VEVENT
END:VCALENDAR
