BEGIN:VCALENDAR
PRODID:-//AT Content Types//AT Event//EN
VERSION:2.0
METHOD:PUBLISH
BEGIN:VEVENT
DTSTAMP:20260420T072804Z
CREATED:20100226T143956Z
UID:ATEvent-a777d51cf0b41af5b8835e72afed09b4
LAST-MODIFIED:20100226T144244Z
SUMMARY:Уличная акция "Не надо цветов! Подарите закон!"
DTSTART:20100304T110000Z
DTEND:20100304T140000Z
DESCRIPTION:Акция в защиту молодых мам\, нез
 конно уволенных с работы\, оставшихся 
 без пособий\, пострадавших от трудовой
  дискриминации\, состоится 4 марта в 15-00
  на Большой Московской улице.
LOCATION:Большая Московская д. 4 (м. Владимирская)
CATEGORIES:гражданское общество, дискриминация
CONTACT:232-13-73
CLASS:PUBLIC
END:VEVENT
END:VCALENDAR
