BEGIN:VCALENDAR
PRODID:-//AT Content Types//AT Event//EN
VERSION:2.0
METHOD:PUBLISH
BEGIN:VEVENT
DTSTAMP:20260420T041304Z
CREATED:20100318T081352Z
UID:ATEvent-16d737fa215c97b4473b754301ee4634
LAST-MODIFIED:20100318T081722Z
SUMMARY:Программа Недели против ксенофобии (19-29 марта)
DTSTART:20100319T160500Z
DTEND:20100329T170500Z
DESCRIPTION:С 19 по 29 марта 2010 г. в Санкт-Петер
 бурге коалиция Ксенофобии.нет проводи
 т серию мероприятий\, приуроченных к е
 ропейской неделе борьбы с расизмом и 
 сенофобией и российской неделе проти
  гомофобии.
LOCATION:Санкт-Петербург
CATEGORIES:дискриминация, гражданское общество, top, права, разнообразие
CLASS:PUBLIC
END:VEVENT
END:VCALENDAR
