BEGIN:VCALENDAR
PRODID:-//AT Content Types//AT Event//EN
VERSION:2.0
METHOD:PUBLISH
BEGIN:VEVENT
DTSTAMP:20260421T101636Z
CREATED:20100211T083336Z
UID:ATEvent-0fef696a429303d8c6ac33e24892dc10
LAST-MODIFIED:20100211T083403Z
SUMMARY:Никита Явейн.  Реконструкция исторических зданий: Обзор санкт-петербургского опыта последних десятилетий
DTSTART:20100218T150000Z
DTEND:20100218T170000Z
DESCRIPTION:В современной Европе новое стро
 ительство в «чистом поле» стало явлен
 ем достаточно редким. На первый план в
 ышли проекты\, в той или иной мере реко
 структивные. Это\, по мнению Никиты Яв
 йна\, придает профессиональному разго
 вору о реконструкции особую актуально
 сть. Его рассуждения о философии\, этик
 е и технологии реконструкции базируют
 ся на огромном фактическом материале\,
  собранном в течение нескольких лет.
LOCATION:Петропавловская крепость\, Невская куртина\, левая сторона\, лекционный зал ПРО АРТЕ
CATEGORIES:город
CONTACT:233 00 40\, 233 05 53
URL:http://www.proarte.ru
CLASS:PUBLIC
END:VEVENT
END:VCALENDAR
