BEGIN:VCALENDAR
PRODID:-//AT Content Types//AT Event//EN
VERSION:1.0
BEGIN:VEVENT
DTSTART:20100327T090000Z
DTEND:20100327T100000Z
DCREATED:20100319T085922Z
UID:ATEvent-a7d2a75064d222b7322a04e99af4720b
SEQUENCE:0
LAST-MODIFIED:20100319T090135Z
SUMMARY:Митинг за сохранение озера Байкал
DESCRIPTION:27 марта в 12.00 рядом с м. Пушкинск
 я (площадь перед ТЮЗом) пройдёт митинг
  в защиту Байкала.  активисты призываю
  горожан прийти и высказаться против 
 апуска Байкальского целлюлозно-бумаж
 ного комбината и загрязнения сточными
  водами уникального озера.
LOCATION:Пионерская площадь\, перед ТЮЗом
PRIORITY:3
TRANSP:0
END:VEVENT
END:VCALENDAR
