BEGIN:VCALENDAR
PRODID:-//AT Content Types//AT Event//EN
VERSION:2.0
METHOD:PUBLISH
BEGIN:VEVENT
DTSTAMP:20260419T124219Z
CREATED:20110115T160958Z
UID:ATEvent-5bfc90f7c9471771f7231f56c851ba02
LAST-MODIFIED:20110115T171626Z
SUMMARY:Фотовыставка "Простые вещи" и благотворительный аукцион
DTSTART:20110123T170000Z
DTEND:20110123T190500Z
DESCRIPTION:Выставка молодых фотохудожнико
 в совместно с благотворительной орган
 изацией «Шаг навстречу»\, Посольством 
 Ломографии в России и библиотекой Кир
 вских островов. "Эта выставка – наш от
 клик на проблемы детей с множественны
 и нарушениями.  Нам искренне хотелось 
 бы\, чтобы они смогли стать активными у
 частниками жизни\, которая для многих 
 доровых людей стала просто рутиной".
LOCATION:Санкт-Петербург\, Кемская ул. 8/3\, ст.м.Крестовский Остров
CATEGORIES:волонтерство, дети, top, благотворительность
CONTACT:235-01-63
CLASS:PUBLIC
END:VEVENT
END:VCALENDAR
