BEGIN:VCALENDAR
PRODID:-//AT Content Types//AT Event//EN
VERSION:1.0
BEGIN:VEVENT
DTSTART:20100214T090000Z
DTEND:20100214T130000Z
DCREATED:20100212T113016Z
UID:ATEvent-9536b8b5f8c2e4ace70aa2c4bfbb975e
SEQUENCE:0
LAST-MODIFIED:20100212T113327Z
SUMMARY:Благотворительная акция "Дари любовь" на Малой Садовой
DESCRIPTION:Благотворительный фонд "Родите
 ьский мост" 14 февраля проводит акцию "
 ари любовь" по сбору денежных средств 
 в поддержку семей с детьми до 3-х лет\, н
 аходящихся в трудной жизненной ситуац
 ии.
LOCATION:Малая Садовая улица\, перед фонтаном
PRIORITY:3
TRANSP:0
END:VEVENT
END:VCALENDAR
