BEGIN:VCALENDAR
PRODID:-//AT Content Types//AT Event//EN
VERSION:1.0
BEGIN:VEVENT
DTSTART:20090530T150000Z
DTEND:20090530T170000Z
DCREATED:20090525T062208Z
UID:ATEvent-a928daf1f28cbe50d9ede3009915d617
SEQUENCE:0
LAST-MODIFIED:20090729T185945Z
SUMMARY:Митинг в протест "коробочникам" и перекупщикам!
LOCATION:м.Горьковская,Александровский парк,50-60 метров от метро в сторону Балтийского Дома
PRIORITY:3
TRANSP:0
END:VEVENT
END:VCALENDAR
