BEGIN:VCALENDAR
PRODID:-//AT Content Types//AT Event//EN
VERSION:2.0
METHOD:PUBLISH
BEGIN:VEVENT
DTSTAMP:20260422T072632Z
CREATED:20091124T072546Z
UID:ATEvent-2c14a4ec2df93eaafbb7bf263026480c
LAST-MODIFIED:20091124T073241Z
SUMMARY:"Зеленый взгляд"/"Green Vision": XIV Международный фестиваль экологических фильмов
DTSTART:20091123T060000Z
DTEND:20091127T102000Z
DESCRIPTION:В Петербурге с 23 по 27 ноября пок
 зывают экологически сознательное кин
 о.  Посмотреть актуальные фильмы со вс
 й Европы можно бесплатно в киноцентре
  "Родина"
LOCATION:Киноцентр "Родина"
CATEGORIES:экология, кино
CLASS:PUBLIC
END:VEVENT
END:VCALENDAR
