BEGIN:VCALENDAR
PRODID:-//AT Content Types//AT Event//EN
VERSION:2.0
METHOD:PUBLISH
BEGIN:VEVENT
DTSTAMP:20260420T024138Z
CREATED:20100119T015555Z
UID:ATEvent-176cc16c5e4dc0c63e13d662dae3a590
LAST-MODIFIED:20100119T015734Z
SUMMARY:Зачем Минюст проверяет правозащитников?
DTSTART:20100119T100000Z
DTEND:20100119T113000Z
DESCRIPTION:Во вторник\, 19 января 2010\, правоз
 щитники расскажут\, зачем Минюст пров
 дит проверку некоторых НГО? Что за эти
 м скрывается на самом деле? Пресс-конф
 ренция состоится в Институте региона
 ьной прессы.
LOCATION:Лиговский пр.\, 73\, бизнес-центр "Лиговка"\, офис 314
CATEGORIES:власть, дискриминация, гражданское общество, права, НГО
URL:http://www.pdi.spb.ru/
CLASS:PUBLIC
END:VEVENT
END:VCALENDAR
