BEGIN:VCALENDAR
PRODID:-//AT Content Types//AT Event//EN
VERSION:1.0
BEGIN:VEVENT
DTSTART:20090815T080000Z
DTEND:20090816T160000Z
DCREATED:20090812T223442Z
UID:ATEvent-2aff57bb31b6bd982a4eb66e401ca7b6
SEQUENCE:0
LAST-MODIFIED:20090812T224435Z
SUMMARY:Выставка-раздача бездомных животных "Хочу домой" 15 и 16 августа
DESCRIPTION:Приют для бездомных животных "Р
 евка" и Лофт-проект "Этажи" (Лиговский\,
  74\, пространство Катушки\, 1 этаж) пригл
 ашают на выставку-раздачу бездомных ж
 вотных 15 и 16 августа с 12:00 до 20:00.
PRIORITY:3
TRANSP:0
END:VEVENT
END:VCALENDAR
