BEGIN:VCALENDAR
PRODID:-//AT Content Types//AT Event//EN
VERSION:2.0
METHOD:PUBLISH
BEGIN:VEVENT
DTSTAMP:20260422T074910Z
CREATED:20091117T102009Z
UID:ATEvent-7c52d6f31d6ef5705294e33fbcc801ca
LAST-MODIFIED:20091117T103738Z
SUMMARY:Дни толерантности 2009: Выставка "Многонациональная столица"
DTSTART:20091118T120000Z
DTEND:20091118T130000Z
DESCRIPTION:В этом году Петербург масштабно
  отмечает Дни толерантности. Основной 
 инициатор - комитет по внешним связям 
 равительства города. Свое мероприяти
  проводит и РНБ. 18 ноября 2009 здесь откр
 оется выставка «Многонациональная ст
 лица: Свой устав в большом городе».
LOCATION:: Московский проспект\, 165\, Новое здание Российской национальной библиотеки.
CATEGORIES:гражданское общество, разнообразие, город
CONTACT:пресс-служба РНБ\, (812) 718-85-60
CLASS:PUBLIC
END:VEVENT
END:VCALENDAR
