BEGIN:VCALENDAR
PRODID:-//AT Content Types//AT Event//EN
VERSION:1.0
BEGIN:VEVENT
DTSTART:20100125T194000Z
DTEND:20100125T194000Z
DCREATED:20100125T195313Z
UID:ATEvent-fcb0380e586fa770337a64bbb33b817b
SEQUENCE:0
LAST-MODIFIED:20100125T195526Z
SUMMARY:Второй набор в "Школу активиста"
DESCRIPTION:10 февраля 2010 в Петербурге старт
 ет Вторая "Школа активиста".
LOCATION:Места проведения семинаров будут уточняться.
PRIORITY:3
TRANSP:0
END:VEVENT
END:VCALENDAR
