BEGIN:VCALENDAR
PRODID:-//AT Content Types//AT Event//EN
VERSION:2.0
METHOD:PUBLISH
BEGIN:VEVENT
DTSTAMP:20260419T153251Z
CREATED:20100218T234458Z
UID:ATEvent-5db29d36e30afd341b0854cc2fa6cd11
LAST-MODIFIED:20100218T234744Z
SUMMARY:Волонтерство на Гаити
DTSTART:20100219T070000Z
DTEND:20100219T150000Z
DESCRIPTION:На Гаити\, пострадавшем от земле
 трясения\, срочно требуются волонтеры:
  медицинские работники\, плотники и сп
 циалисты по работе с детьми.
LOCATION:Центр "Содружество"
CATEGORIES:волонтерство, гражданское общество
CONTACT:sodvo-office@yandex.ru
URL:http://obmen.org/news/608/
CLASS:PUBLIC
END:VEVENT
END:VCALENDAR
