BEGIN:VCALENDAR
PRODID:-//AT Content Types//AT Event//EN
VERSION:2.0
METHOD:PUBLISH
BEGIN:VEVENT
DTSTAMP:20260420T024440Z
CREATED:20091209T175309Z
UID:ATEvent-223af6ff29932590ef5c829910faa067
LAST-MODIFIED:20091209T214726Z
SUMMARY:Война в Чечне: наследие и гарантии мира
DTSTART:20091211T160000Z
DTEND:20091211T173000Z
DESCRIPTION:11 декабря 2009\, в годовщину начал
  Первой Чеченской войны\, в НИЦ "Мемори
 ал" состоится показ фильма "Плачущее с
 лнце. Влияние войны на жизнь горных се
 л Чечни" (Москва\, Правозащитный центр "
 Мемориал") и дискуссия "Война в Чечне: с
 делать все\, чтобы прошлое не повторил
 сь».
LOCATION:НИЦ "Мемориал" по адрес ул. Рубинштейна\, д. 23\, офис 103
CATEGORIES:права, преступления, "Мемориал"
CONTACT:Татьяна Косинова\, (812) 575 5861
CLASS:PUBLIC
END:VEVENT
END:VCALENDAR
