BEGIN:VCALENDAR
PRODID:-//AT Content Types//AT Event//EN
VERSION:2.0
METHOD:PUBLISH
BEGIN:VEVENT
DTSTAMP:20260422T075349Z
CREATED:20091117T213916Z
UID:ATEvent-605bb139626dafb79705a0a3c4dba932
LAST-MODIFIED:20091117T214250Z
SUMMARY:"Верхний слой городской архитектуры: чердаки или мансарды"
DTSTART:20091124T150000Z
DTEND:20091124T173500Z
DESCRIPTION:24 ноября Санкт-Петербургский Со
 юз архитекторов приглашает всех желаю
 щих посетить заседание Секции «Реконс
 трукция зданий и приспособление памят
 ников архитектуры»\, посвященное стро
 тельству мансард в Петербурге.
LOCATION:Дом архитектора (особняк А.А. Половцова): Большая Морская ул.\, д. 52 Бронзовый зал\, 2-й этаж
CATEGORIES:top, город
CLASS:PUBLIC
END:VEVENT
END:VCALENDAR
