BEGIN:VCALENDAR
PRODID:-//AT Content Types//AT Event//EN
VERSION:2.0
METHOD:PUBLISH
BEGIN:VEVENT
DTSTAMP:20260421T073730Z
CREATED:20100226T124915Z
UID:ATEvent-e21605f1c941157cc546a2429c7e5d7e
LAST-MODIFIED:20100226T203602Z
SUMMARY:Вечер памяти Натальи Эстемировой в Интерьерном театре
DTSTART:20100227T150000Z
DTEND:20100227T180000Z
DESCRIPTION:27 февраля 2010 в 18 часов в Интерье
 ном театре состоится вечер памяти пра
 возащитницы и журналистки Натальи Эст
 емировой.
LOCATION:Интерьерный театр\, Невский пр.\, 104\, 4-й этаж.
CATEGORIES:гражданское общество, top, преступления, театр, культура памяти, НГО, "Мемориал"
CLASS:PUBLIC
END:VEVENT
END:VCALENDAR
