BEGIN:VCALENDAR
PRODID:-//AT Content Types//AT Event//EN
VERSION:1.0
BEGIN:VEVENT
DTSTART:20100804T140000Z
DTEND:20100804T160000Z
DCREATED:20100804T112000Z
UID:ATEvent-d25b226b2711e44c947f147791e278ce
SEQUENCE:0
LAST-MODIFIED:20100804T112136Z
SUMMARY:Вечер Натальи Горбаневской
DESCRIPTION:Сегодня в Музее Анны Ахматовой 
  Фонтанном доме состоится поэтически
  вечер Натальи Горбаневской.
LOCATION:Музей А.А.Ахматовой в Фонтанном Доме
PRIORITY:3
TRANSP:0
END:VEVENT
END:VCALENDAR
