BEGIN:VCALENDAR
PRODID:-//AT Content Types//AT Event//EN
VERSION:1.0
BEGIN:VEVENT
DTSTART:20100806T060000Z
DTEND:20100830T130000Z
DCREATED:20100803T131422Z
UID:ATEvent-9c5b711f9513b438650d3c62b62a3dd0
SEQUENCE:0
LAST-MODIFIED:20100810T110151Z
SUMMARY:Варшавское восстание 1944 года глазами фоторепортеров
DESCRIPTION:В четверг в Петербурге откроетс
 я фотовыставка снимков 1944 года\, сдела
 ных непосредственными участниками со
 бытий. Выставка привезена а Петербург 
 из Исторического музея Варшавы.
LOCATION:Музей истории Санкт-Петербурга\, Выставочный зал Особняке Румянцева (Английская наб.\, 44\, вход с Галерной ул.\, 45)
PRIORITY:3
TRANSP:0
END:VEVENT
END:VCALENDAR
