BEGIN:VCALENDAR
PRODID:-//AT Content Types//AT Event//EN
VERSION:2.0
METHOD:PUBLISH
BEGIN:VEVENT
DTSTAMP:20260422T042914Z
CREATED:20090907T181202Z
UID:ATEvent-2c3486c841dac18e7784de40f82661f3
LAST-MODIFIED:20090908T172807Z
SUMMARY:В суд по делу о незаконности общественных слушаний по "Охта-Центру" вызвана гражданка Киселева
DTSTART:20090908T113000Z
DTEND:20090908T123000Z
DESCRIPTION:Завтра\, 8 сентября\, в 15.30 в  в Кра
 сногвардейский районный суд вызвана Ю
 лия Евгеньевна Киселёва\, председател
  Комитета по градостроительству и арх
 итектуре Санкт-Петербурга. Она должна 
 дать разъяснения суду по процедуре на
 начения общественного обсуждения про
 екта "Охта-Центра" на 1 сентября 2009.
LOCATION:Красногвардейский районный суд Санкт-Петербурга: Краснодонская ул.\, 14\, зал 505\, судья Лариса Головкина.
CATEGORIES:гражданское общество, власть, город, протесты
CONTACT:Александр Шуршев\, (812)275-2300
URL:http://ecom.su/news/index.php?id=1268
CLASS:PUBLIC
END:VEVENT
END:VCALENDAR
