BEGIN:VCALENDAR
PRODID:-//AT Content Types//AT Event//EN
VERSION:1.0
BEGIN:VEVENT
DTSTART:20091203T142000Z
DTEND:20091221T142000Z
DCREATED:20091124T141756Z
UID:ATEvent-8b83c47d9927ed8d628fd7e3fc235ae7
SEQUENCE:0
LAST-MODIFIED:20091124T141837Z
SUMMARY:В декабре Петербург "подобреет"
DESCRIPTION:С 3 по 21 декабря в городе уже в пя
 тый раз состоится благотворительный ф
 естиваль "Добрый Питер". "У каждого гор
 да есть свое лицо. Санкт-Петербург изв
 естен добрыми и отзывчивыми жителями. 
 Мы уверены – он добрый!" - считают в Цен
 тре развития некоммерческих организа
 ий\, которому и принадлежит инициатив
 
LOCATION:Санкт-Петербург
PRIORITY:3
TRANSP:0
END:VEVENT
END:VCALENDAR
