BEGIN:VCALENDAR
PRODID:-//AT Content Types//AT Event//EN
VERSION:2.0
METHOD:PUBLISH
BEGIN:VEVENT
DTSTAMP:20260420T175909Z
CREATED:20100406T060730Z
UID:ATEvent-4cb3428ba2d202e8369f32f6f20d137e
LAST-MODIFIED:20100408T185311Z
SUMMARY:Творческий Выборг 2010
DTSTART:20100407T140000Z
DTEND:20100411T170000Z
DESCRIPTION:Программа Дней Выборга в Петерб
 урге - весна 2010. Что такое театр поэтов 
 "Форточки"? Вы знаете? Мы - нет. Но есть в
 озможность узнать и услышать - на этой 
 неделе в Петербурге на Днях Выборга...
LOCATION:Музей-усадьба Г.Державина: наб. Фонтанки\, 118.
CATEGORIES:экология, регионы, арт, креатив
CONTACT:Информационно-туристского центра\, + 7 (905) 210-55-55
CLASS:PUBLIC
END:VEVENT
END:VCALENDAR
