BEGIN:VCALENDAR
PRODID:-//AT Content Types//AT Event//EN
VERSION:2.0
METHOD:PUBLISH
BEGIN:VEVENT
DTSTAMP:20260419T153012Z
CREATED:20091022T201231Z
UID:ATEvent-6701ba6a42014804553f47eab0ffc3bf
LAST-MODIFIED:20100222T085703Z
SUMMARY:Требуются волонтеры для занятий с ребенком
DTSTART:20091022T193500Z
DTEND:20100203T205500Z
DESCRIPTION:Ребенку 1 год 10 месяцев. Его мама
  больна (онкология). Требуются волонте
 ы - педагог или психолог для занятий с 
 малышом 1-2 раза в неделю.
LOCATION:Ольгино
CATEGORIES:волонтерство, дети
CONTACT:Светлана\, +7-905-218-30-30
CLASS:PUBLIC
END:VEVENT
END:VCALENDAR
