BEGIN:VCALENDAR
PRODID:-//AT Content Types//AT Event//EN
VERSION:1.0
BEGIN:VEVENT
DTSTART:20090910T110000Z
DTEND:20090910T130000Z
DCREATED:20090909T154411Z
UID:ATEvent-7283f50b6360d23c26224706faeaf87b
SEQUENCE:0
LAST-MODIFIED:20090909T154618Z
SUMMARY:Содержание и выгул собак в Санкт-Петербурге: Круглый стол в "Зеленой лампе"
DESCRIPTION:10 сентября в Пресс-клубе «Зелен
 я лампа» состоится круглый стол\, посв
 ященный вопросам регулирования содер
 ания и выгула собак в Санкт-Петербург
 .
LOCATION:Гагаринская ул.\, 3. Пресс-клуб "Зеленая лампа"
PRIORITY:3
TRANSP:0
END:VEVENT
END:VCALENDAR
