BEGIN:VCALENDAR
PRODID:-//AT Content Types//AT Event//EN
VERSION:1.0
BEGIN:VEVENT
DTSTART:20100207T090000Z
DTEND:20100207T170000Z
DCREATED:20100204T203442Z
UID:ATEvent-0135e9d39c48230c0fd02d8295492d38
SEQUENCE:0
LAST-MODIFIED:20100204T203700Z
SUMMARY:Сбор детских вещей для благотворительного магазина
DESCRIPTION:В городе открывается благотвор
 тельный магазин детских вещей. Что-то 
 вроде комиссионного или сэкнд-хенда\, 
 о на местной основе. Участвуйте - и вы 
 оможете не тольео нуждающимся\, но и д
 тям с пороком сердца! Вас ждут в воскр
 сенье\, 7 февраля 2010...
LOCATION:Лиговский пр.\, 87 офис 300
PRIORITY:3
TRANSP:0
END:VEVENT
END:VCALENDAR
