BEGIN:VCALENDAR
PRODID:-//AT Content Types//AT Event//EN
VERSION:2.0
METHOD:PUBLISH
BEGIN:VEVENT
DTSTAMP:20260420T024635Z
CREATED:20100119T030505Z
UID:ATEvent-c7394d365236de6531c72ccca2f3f9d9
LAST-MODIFIED:20100119T030654Z
SUMMARY:Роль международных НГО в защите прав человека
DTSTART:20100119T140000Z
DTEND:20100119T163000Z
DESCRIPTION:19 января 2010 на Петербургском се
 инаре по проблемам прав человека (каф
 дра прикладной политологии)  Игорь Во
 онцов расскажет на примере Узбекиста
 а о роли международных неправительст
 енных организаций в работе по защите 
 рав человека.
LOCATION:ул. Союза Печатников\, д. 16\, к.108/4 или в аудитории 309
CATEGORIES:гражданское общество, права, НГО
CONTACT:Александр Сунгуров\, 714-00-47
URL:http://www.strategy-spb.ru/index.php?do=event&doc=4492&time_order=DESC&offset=210&find_title=&find_type=&find_create_date_from=&find_create_date_to=&find_body=&find=0&find_last_from=&find_last_to=&find_proj=&find_prog=&YYYY=&Mmm=
CLASS:PUBLIC
END:VEVENT
END:VCALENDAR
