BEGIN:VCALENDAR
PRODID:-//AT Content Types//AT Event//EN
VERSION:2.0
METHOD:PUBLISH
BEGIN:VEVENT
DTSTAMP:20260421T130217Z
CREATED:20101012T114220Z
UID:ATEvent-1bd63301acc810adc78b197fd8a5519b
LAST-MODIFIED:20101012T114331Z
SUMMARY:Пятая общегородская акция-раздача бездомных животных «ХОЧУ ДОМОЙ».
DTSTART:20101017T080000Z
DTEND:20101017T160000Z
DESCRIPTION:Бездомные животные из всех прию
 тов Петербурга будут ждать новых хозя
 в в Лофт Проекте ЭТАЖИ. На акцию также 
 приглашаются желающие помочь приютам 
 вещами.
LOCATION:В Лофт Проекте ЭТАЖИ по адресу Лиговский пр\, 74. 2 этаж
CATEGORIES:животные в городе
CONTACT:+7 (812) 458 50 05
CLASS:PUBLIC
END:VEVENT
END:VCALENDAR
