BEGIN:VCALENDAR
PRODID:-//AT Content Types//AT Event//EN
VERSION:1.0
BEGIN:VEVENT
DTSTART:20100205T160000Z
DTEND:20100205T183000Z
DCREATED:20100204T205043Z
UID:ATEvent-30d7bec6253d3f4a542d693dc2b3f7e5
SEQUENCE:0
LAST-MODIFIED:20100204T205222Z
SUMMARY:Премьера документального фильма о чеченском селе Алды
DESCRIPTION:5 февраля 2000 здесь произошла одн
 а и самых страшных спецопераций - зачи
 ток\, которую совершил петербургский 
 МОН. С тех пор ежегодно проходят акции
  поминовения\, которые инициируют "Мем
 риал"\, "Дом мира и ненасилия" и СПб отд
 ление партии "Яблоко".
LOCATION:ул. Гагаринская. д. 3\, пресс-клуб "Зеленая лампа"
PRIORITY:3
TRANSP:0
END:VEVENT
END:VCALENDAR
