BEGIN:VCALENDAR
PRODID:-//AT Content Types//AT Event//EN
VERSION:2.0
METHOD:PUBLISH
BEGIN:VEVENT
DTSTAMP:20260419T150027Z
CREATED:20100811T175817Z
UID:ATEvent-aeadf594228221f592ae7dbb704ca5e0
LAST-MODIFIED:20100811T181251Z
SUMMARY:Поэты против небоскребов
DTSTART:20100812T160000Z
DTEND:20100812T190000Z
DESCRIPTION:Завтра в кафе-клубе "ПирО.Г.И."на 
 Фонтанке 40 состоится поэтический перф
 орманс "Поэты против небоскребов"
LOCATION:Пир О.Г.И. на Фонтанке 40
CATEGORIES:протесты, литература, креатив, город, арт
CONTACT:(812) 275-35-58\; + 7950 0089274
URL:http://www.piterogi.ru/
CLASS:PUBLIC
END:VEVENT
END:VCALENDAR
