BEGIN:VCALENDAR
PRODID:-//AT Content Types//AT Event//EN
VERSION:2.0
METHOD:PUBLISH
BEGIN:VEVENT
DTSTAMP:20260421T132157Z
CREATED:20091214T080711Z
UID:ATEvent-2b7a05799b91d2272a97c8d940a50e6a
LAST-MODIFIED:20091214T080733Z
SUMMARY:Петербуржцев снова зовут на улицу
DTSTART:20091220T090000Z
DTEND:20091220T110000Z
DESCRIPTION:Горожан призывают 20 декабря вый
 ти на митинг и выступить за соблюдение
  законов и конституционных принципов. 
 Инициировали митинг активисты Ассоци
 ции предпринимателей малого и средне
 о бизнеса\, однако\, спектр протестов ш
 ирок: протестовать там будут также про
 тив градостроительного произвола и ст
 роительства Охта-центра.
LOCATION:Площадь у Финляндского вокзала
CATEGORIES:гражданское общество, top, город
CLASS:PUBLIC
END:VEVENT
END:VCALENDAR
