BEGIN:VCALENDAR
PRODID:-//AT Content Types//AT Event//EN
VERSION:2.0
METHOD:PUBLISH
BEGIN:VEVENT
DTSTAMP:20260419T153359Z
CREATED:20091115T111442Z
UID:ATEvent-93228f8a8ab3ea607851c1a12043048f
LAST-MODIFIED:20091115T111637Z
SUMMARY:Первая общеевропейская неделя муковисцидоза в Петербурге: "Помогите нам дышать!"
DTSTART:20091115T100000Z
DTEND:20091115T150000Z
DESCRIPTION:15 ноября в Петербурге состоится
  информационная кампания в поддержку 
 юдей\, страдающих муковисцидозом.
LOCATION:Торговые комплексы: «Академический» (Гражданский пр.\, 41А)\; «Балкания NOVA» (Балканская пл.5)\; «Невский» (пр. Большевиков 18) и др.
CATEGORIES:волонтерство, медицина, дети
CONTACT:+7 911 289 62 15
URL:http://www.regnum.ru/news/fd-nw/1225173.html
CLASS:PUBLIC
END:VEVENT
END:VCALENDAR
