BEGIN:VCALENDAR
PRODID:-//AT Content Types//AT Event//EN
VERSION:1.0
BEGIN:VEVENT
DTSTART:20091216T071000Z
DTEND:20091216T121000Z
DCREATED:20091214T093714Z
UID:ATEvent-53dbc0faaef8acc63fa91c17d8621af7
SEQUENCE:0
LAST-MODIFIED:20091214T093818Z
SUMMARY:Начинания и дела. 100 лет общественному движению в защиту культурного наследия в России
DESCRIPTION:16 декабря Санкт-Петербургское о
 тделение Всероссийского общества охр
 ны памятников истории и культуры и Го
 ударственный музей истории Санкт-Пет
 рбурга проведут конференцию\, посвяще
 нную истории
LOCATION:Петропавловская крепость\, Иоанновский равелин\, лекторий музея
PRIORITY:3
TRANSP:0
END:VEVENT
END:VCALENDAR
