BEGIN:VCALENDAR
PRODID:-//AT Content Types//AT Event//EN
VERSION:2.0
METHOD:PUBLISH
BEGIN:VEVENT
DTSTAMP:20260419T153217Z
CREATED:20100527T063002Z
UID:ATEvent-3d6277ad2702cc99a8c98589131013b2
LAST-MODIFIED:20100527T063018Z
SUMMARY:"Мы вместе играем рок"
DTSTART:20100529T090000Z
DTEND:20100529T130000Z
DESCRIPTION:В преддверии международного дн
  защиты детей\, 29 мая в Павловске на те
 ритории школы им. А.М. Горчакова\, напр
 тив Детского дома-интерната №4 пройде
 т опен-эйр\, приуроченный к Дню города. 
 “Мы вместе играем рок” - так называет
 я фестиваль\, на котором выступят моло
 дые рок-команды\, музыкальные коллекти
 вы детей с ограниченными возможностям
 и\, а также приглашенная рок-звезда
LOCATION:Павловск\, территория школы им. А.М. Горчакова (Елизаветинская,2)\, напротив Детского дома-интерната №4
CATEGORIES:волонтерство, дети, благотворительность
URL:http://vkontakte.ru/club15840030
CLASS:PUBLIC
END:VEVENT
END:VCALENDAR
