BEGIN:VCALENDAR
PRODID:-//AT Content Types//AT Event//EN
VERSION:2.0
METHOD:PUBLISH
BEGIN:VEVENT
DTSTAMP:20260421T125756Z
CREATED:20091016T070833Z
UID:ATEvent-f25139d4e93d128e060ae613edafedfa
LAST-MODIFIED:20091016T071258Z
SUMMARY:Митинг "Против жестокости и позора" 18 октября
DTSTART:20091018T100000Z
DTEND:20091018T120000Z
DESCRIPTION:Общественное движение "Спасённ
 я жизнь" хочет привлечь общественное 
 нимание к "проблемам бездомных и обез
 оленных животных\, безжалостной экспл
 уатации братьев меньших\, а также отсу
 ствию адекватной законодательной баз
 ы\, реально защищающей Права животных".
 
LOCATION:Малая Конюшенная ул.
CATEGORIES:животные в городе, НГО
CONTACT:Любовь Шарганова\, 8-911-280-89-16
CLASS:PUBLIC
END:VEVENT
END:VCALENDAR
