BEGIN:VCALENDAR
PRODID:-//AT Content Types//AT Event//EN
VERSION:2.0
METHOD:PUBLISH
BEGIN:VEVENT
DTSTAMP:20260421T125848Z
CREATED:20101125T160839Z
UID:ATEvent-f03c817286f95a3c6de9085c31677e76
LAST-MODIFIED:20101125T161326Z
SUMMARY:Митинг против убийства животных ради меха - 28 ноября
DTSTART:20101128T130000Z
DTEND:20101128T150000Z
DESCRIPTION:"На улицы Петербурга выпал снег\
 , но некоторые люди все еще определяют
 я – какую верхнюю одежду им выбрать\, 
 тобы было тепло и удобно. К сожалению\,
  по-прежнему многие задумываются о при
 обретении шубы"\, - зоозащитники пригла
 шают на митинг-художественную акцию - 
 онцерт - угощение на Пионерскую площа
 ь в 13-00.
LOCATION:Пионерская площадь\, ст.м. Пушкинская/Звенигородская
CATEGORIES:животные в городе, протесты
URL:http://animalrights.spb.ru/
CLASS:PUBLIC
END:VEVENT
END:VCALENDAR
