BEGIN:VCALENDAR
PRODID:-//AT Content Types//AT Event//EN
VERSION:1.0
BEGIN:VEVENT
DTSTART:20100515T090000Z
DTEND:20100515T103000Z
DCREATED:20100506T055331Z
UID:ATEvent-21e4d275dc4927c37e3875e03a36ce53
SEQUENCE:0
LAST-MODIFIED:20100511T201543Z
SUMMARY:Митинг против коммерциализации образования и медицины
DESCRIPTION:15 мая на площади перед СКК состо
 ится митинг против проекта Федерально
 го закона «О внесении изменений в отде
 льные законодательные акты Российско
  Федерации в связи с совершенствовани
 ем правового положения государственн
 х (муниципальных) учреждений»\, в соот
 етствии с которым существенно может с
 ократиться бюджетное финансирование 
 етских садов\, школ\, поликлиник\, музе
 в\, библиотек.
LOCATION:Юрия Гагарина пр.\, 8 (СКК)
PRIORITY:3
TRANSP:0
END:VEVENT
END:VCALENDAR
