BEGIN:VCALENDAR
PRODID:-//AT Content Types//AT Event//EN
VERSION:1.0
BEGIN:VEVENT
DTSTART:20100513T150000Z
DTEND:20100516T180000Z
DCREATED:20100426T114445Z
UID:ATEvent-f113bee2ef82b65154441207d6dc5e69
SEQUENCE:0
LAST-MODIFIED:20100426T114635Z
SUMMARY:Международный фестиваль для маленьких и взрослых «Летающие дети»
DESCRIPTION:С 13 по 16 мая 2010 года Упсала-цирк 
  третий раз проводит Международный фе
 стиваль для маленьких и взрослых «Лет
 ющие дети».
LOCATION:На сцене клоун-мим театр "Лицедеи"
PRIORITY:3
TRANSP:0
END:VEVENT
END:VCALENDAR
