BEGIN:VCALENDAR
PRODID:-//AT Content Types//AT Event//EN
VERSION:2.0
METHOD:PUBLISH
BEGIN:VEVENT
DTSTAMP:20260419T153312Z
CREATED:20091125T135534Z
UID:ATEvent-357b48e66e3e7f1275dbc3f139e78a2f
LAST-MODIFIED:20091125T135700Z
SUMMARY:Международный день Добровольца - 2009 в Петербурге
DTSTART:20091205T160000Z
DTEND:20091205T190000Z
DESCRIPTION:5 декабря 2009 «Немецко-Русский Об
 мен» в пятый раз проводит в Петербурге
  праздник для волонтеров - День Волонт
 ра - 2009. Участников ждут акции "Давай м
 няться!"\, кинопоказы и другие хэппени
 ги.
LOCATION:конференц-зале РНО по адресу Лиговский пр. оф. 300
CATEGORIES:волонтерство, креатив
CONTACT:Астрид Шорн\, председатель Правления РОО "Немецко-русский обмен"
CLASS:PUBLIC
END:VEVENT
END:VCALENDAR
