BEGIN:VCALENDAR
PRODID:-//AT Content Types//AT Event//EN
VERSION:2.0
METHOD:PUBLISH
BEGIN:VEVENT
DTSTAMP:20260420T152159Z
CREATED:20100415T104343Z
UID:ATEvent-f81d8747698370d309ad59457a1c00f4
LAST-MODIFIED:20100415T104411Z
SUMMARY:Мероприятия Немецко-Русского Обмена в рамках Недели Германии в Санкт-Петербурге
DTSTART:20100420T130000Z
DTEND:20100425T130000Z
DESCRIPTION:НРО приглашает посетить фотовы
 тавку "Обаяние субкультур"\, показ нов
 х короткометражных немецких фильмов 
 кологической тематики «Жизнь в зелен
 м цвете»\, а также вечеринку для школь
 иков и их родителей «Давай меняться ш
 олами\, семьями\, странами!»
CATEGORIES:креатив, НГО
CLASS:PUBLIC
END:VEVENT
END:VCALENDAR
