BEGIN:VCALENDAR
PRODID:-//AT Content Types//AT Event//EN
VERSION:2.0
METHOD:PUBLISH
BEGIN:VEVENT
DTSTAMP:20260423T100738Z
CREATED:20091119T085048Z
UID:ATEvent-ec5b24afda4992ebf3e9232d8fa8db24
LAST-MODIFIED:20091119T085352Z
SUMMARY:Лаборатория Критического Искусства открывается в ЕУСПБ
DTSTART:20091120T160000Z
DTEND:20091120T180000Z
DESCRIPTION:В пятницу\, 20 ноября в Европейск
 м Университете состоится презентация
  нового исследовательского центра  - Л
 боратории Критического Искусства (ЛК
 ). Деятельность Лаборатории направлен
 а на изучение\, систематизацию и практ
 ческую реализацию ряда исследователь
 ских проектов в области современного 
 скусства\, инициированных художникам
 \, которые ставят своей целью критичес
 кий анализ современного общества\, а т
 кже места и роли искусства в публично
  пространстве.
LOCATION:Конференц-зал Европейского Университета в С.-Петербурге\, Гагаринская\, 3
CATEGORIES:арт, креатив
CLASS:PUBLIC
END:VEVENT
END:VCALENDAR
