BEGIN:VCALENDAR
PRODID:-//AT Content Types//AT Event//EN
VERSION:1.0
BEGIN:VEVENT
DTSTART:20090905T070000Z
DTEND:20090905T130000Z
DCREATED:20090902T181535Z
UID:ATEvent-1af9e0d908b039edc6c606a1a3e7dfbb
SEQUENCE:0
LAST-MODIFIED:20090902T181818Z
SUMMARY:Корпоративные волонтеры посадят фруктовый сад в Лопухинском детском доме
DESCRIPTION:5 сентября волонтеры благотвори
 тельного фонда «Милость» будут сажать
  фруктовый сад вместе с детьми-сиротам
 и в  Лопухинском детском доме.
LOCATION:Лопухинка\, Ломоносовский район Ленинградской области
PRIORITY:3
TRANSP:0
END:VEVENT
END:VCALENDAR
