BEGIN:VCALENDAR
PRODID:-//AT Content Types//AT Event//EN
VERSION:2.0
METHOD:PUBLISH
BEGIN:VEVENT
DTSTAMP:20260419T164938Z
CREATED:20090911T121456Z
UID:ATEvent-2486b0d57bf59719c7ad1f78be975db5
LAST-MODIFIED:20090912T151251Z
SUMMARY:Концерт в защиту сквера
DTSTART:20090912T130000Z
DTEND:20090912T170000Z
DESCRIPTION:В 18-00 в сквере на углу улиц Съезж
 инской и Благоева (метро "Спортивная") 
 удет концерт разных рок-групп в его за
 щиту. Ожидаются группы "Велосипед"\, "Го
 рький шоколад"\, Бабай и другие
LOCATION:На углу улиц Съезжинской и Благоева (метро "Спортивная"
CATEGORIES:протесты, город, креатив
CLASS:PUBLIC
END:VEVENT
END:VCALENDAR
