BEGIN:VCALENDAR
PRODID:-//AT Content Types//AT Event//EN
VERSION:2.0
METHOD:PUBLISH
BEGIN:VEVENT
DTSTAMP:20260419T152848Z
CREATED:20090909T172130Z
UID:ATEvent-522b74f66671f8ab5f501755537524f3
LAST-MODIFIED:20090912T150334Z
SUMMARY:Художественно-театральная игра для детей «Мечты о городе»
DTSTART:20090912T130000Z
DTEND:20090912T160000Z
DESCRIPTION:12 сентября в 17.00 в сквере на углу
  улиц Съезжинской и Благоева (метро "Сп
 ортивная") пройдет художественно-теат
 альная игра для детей "Мечты о городе".
 
LOCATION:Сквер на углу улиц Съезжинской и Благоева (метро "Спортивная")
CATEGORIES:волонтерство, креатив, гражданское общество, экология, дети, город, арт
CONTACT:Анастасия Толстопятова\, +7-904-331-27-32\, press@ecom.su
URL:http://www.ecom.su/announcements/index.php?id=1269
CLASS:PUBLIC
END:VEVENT
END:VCALENDAR
