BEGIN:VCALENDAR
PRODID:-//AT Content Types//AT Event//EN
VERSION:1.0
BEGIN:VEVENT
DTSTART:20090906T071500Z
DTEND:20090906T141500Z
DCREATED:20090903T150404Z
UID:ATEvent-9d7ba1f80eb6bca6d936659cb89cb28a
SEQUENCE:0
LAST-MODIFIED:20090903T150448Z
SUMMARY:Гринпис приглашает на уборку мусора в Санкт-Петербурге
DESCRIPTION:В воскресенье\, 6 сентября\, Грин
 ис приглашает всех желающих на уборку
  мусора на берегу Финского залива в ра
 оне Ольгино. Во время уборки весь мусо
 р будет собран раздельно по нескольки
  видам и отправлен не на свалку\, а на п
 ереработку.
LOCATION:Платформа ж\д ст. Ольгино
PRIORITY:3
TRANSP:0
END:VEVENT
END:VCALENDAR
