BEGIN:VCALENDAR
PRODID:-//AT Content Types//AT Event//EN
VERSION:2.0
METHOD:PUBLISH
BEGIN:VEVENT
DTSTAMP:20260421T144613Z
CREATED:20100125T192152Z
UID:ATEvent-ea3e6e45cdf8e7a65814c02a6091f702
LAST-MODIFIED:20100125T200234Z
SUMMARY:Григорий Тульчинский в лектории "Контекст"
DTSTART:20100204T170000Z
DTEND:20100204T193000Z
DESCRIPTION:4 февраля 2010 в Контексте состоит
 ся выступление Григория Тульчинского 
 "Вменяемая личность: от самозванства к
  личности как автопроекту и бренду».
LOCATION:ул.Достоевского\, д.44\, литера Е\, бизнес-центр ZeitWerkHaus\, 6 этаж\, офис Агентства ZERO
CATEGORIES:креатив, гражданское общество, top, публичные интеллектуалы, наука
URL:http://contextclub.org/events/y2010/m2/n36
CLASS:PUBLIC
END:VEVENT
END:VCALENDAR
